BEGIN:VCALENDAR
VERSION:2.0
PRODID:-//CERN//INDICO//EN
BEGIN:VEVENT
SUMMARY:Teilnehmerregistrierung und Anmeldung Möbelbedarf zur Career-Mess
 e 2026
DTSTART;VALUE=DATE-TIME:20260504T073000Z
DTEND;VALUE=DATE-TIME:20260504T130000Z
DTSTAMP;VALUE=DATE-TIME:20260420T195100Z
UID:indico-event-782@events.hs-offenburg.de
CONTACT:olivia.zwach@hs-offenburg.de\;+49 (0)781/205-4864
DESCRIPTION:Liebe Ausstellerinnen und Aussteller\,  wir freuen uns\, das
 s Sie an der Career-Messe der Hochschule Offenburg teilnehmen!Bitte regist
 rieren Sie die Mitarbeiterinnen und Mitarbeiter\, die Ihren Stand am 21.10
 .2025 betreuen werden. Eingaben und Änderungen sind bis zum 26. September
  möglich.Bitte geben Sie desweiteren an\, ob Sie Starkstrom benötigen un
 d welche Möbel wir Ihnen für die gebuchte Standfläche bereitstellen sol
 len (Preise im Paket inkludiert). Eine möglichst präzise Angabe erleicht
 ert unsere Vorbereitungen - vielen Dank! Vielen Dank und freundliche Grü
 ßeOlivia ZwachHochschule Offenburg\n\nhttps://events.hs-offenburg.de/even
 t/782/
LOCATION:EG und UG (Oberrheinhalle Offenburg)
URL:https://events.hs-offenburg.de/event/782/
END:VEVENT
END:VCALENDAR
